Package: clusterStab Version: 1.79.0 Command: /Library/Frameworks/R.framework/Resources/bin/R CMD build --keep-empty-dirs --no-resave-data clusterStab StartedAt: 2025-02-03 16:30:37 -0500 (Mon, 03 Feb 2025) EndedAt: 2025-02-03 16:30:44 -0500 (Mon, 03 Feb 2025) EllapsedTime: 7.1 seconds RetCode: 0 Status: OK PackageFile: clusterStab_1.79.0.tar.gz PackageFileSize: 185.8 KiB