Package: clusterStab Version: 1.79.0 Command: rm -rf clusterStab.buildbin-libdir && mkdir clusterStab.buildbin-libdir && /Users/biocbuild/BBS/utils/build-universal.sh clusterStab_1.79.0.tar.gz /Library/Frameworks/R.framework/Resources/bin/R clusterStab.buildbin-libdir StartedAt: 2025-02-03 22:45:39 -0500 (Mon, 03 Feb 2025) EndedAt: 2025-02-03 22:45:42 -0500 (Mon, 03 Feb 2025) EllapsedTime: 3.1 seconds RetCode: 0 Status: OK PackageFile: clusterStab_1.79.0.tgz PackageFileSize: 342.8 KiB