Package: clusterStab Version: 1.81.0 Maintainer: James W. MacDonald MaintainerEmail: jmacdon at u.washington.edu git_url: https://git.bioconductor.org/packages/clusterStab git_branch: devel git_last_commit: 8830f15 git_last_commit_date: 2025-04-15 09:36:48 -0400 (Tue, 15 Apr 2025)