Package: clusterProfiler Version: 4.17.0 Command: /home/biocbuild/R/R/bin/R CMD INSTALL clusterProfiler StartedAt: 2025-10-16 22:14:21 -0000 (Thu, 16 Oct 2025) EndedAt: 2025-10-16 22:14:55 -0000 (Thu, 16 Oct 2025) EllapsedTime: 33.8 seconds RetCode: 0 Status: OK