Package: clusterProfiler Version: 4.17.0 Command: /home/biocbuild/R/R/bin/R CMD build --keep-empty-dirs --no-resave-data clusterProfiler StartedAt: 2025-10-17 00:05:08 -0000 (Fri, 17 Oct 2025) EndedAt: 2025-10-17 00:05:45 -0000 (Fri, 17 Oct 2025) EllapsedTime: 37.0 seconds RetCode: 0 Status: OK PackageFile: clusterProfiler_4.17.0.tar.gz PackageFileSize: 611.9 KiB