Package: clusterProfiler Version: 4.17.0 Command: /Library/Frameworks/R.framework/Resources/bin/R CMD INSTALL clusterProfiler StartedAt: 2025-07-23 15:25:51 -0400 (Wed, 23 Jul 2025) EndedAt: 2025-07-23 15:26:02 -0400 (Wed, 23 Jul 2025) EllapsedTime: 10.2 seconds RetCode: 0 Status: OK