Package: clusterExperiment Version: 2.29.0 Command: /Library/Frameworks/R.framework/Resources/bin/R CMD INSTALL clusterExperiment StartedAt: 2025-04-29 15:39:44 -0400 (Tue, 29 Apr 2025) EndedAt: 2025-04-29 15:41:26 -0400 (Tue, 29 Apr 2025) EllapsedTime: 101.9 seconds RetCode: 0 Status: OK