Package: clusterExperiment Version: 2.29.0 Command: /Library/Frameworks/R.framework/Resources/bin/R CMD check --install=check:clusterExperiment.install-out.txt --library=/Library/Frameworks/R.framework/Resources/library --no-vignettes --timings clusterExperiment_2.29.0.tar.gz StartedAt: 2025-04-30 19:43:33 -0400 (Wed, 30 Apr 2025) EndedAt: 2025-04-30 19:57:57 -0400 (Wed, 30 Apr 2025) EllapsedTime: 864.0 seconds RetCode: 0 Status: WARNINGS CheckDir: clusterExperiment.Rcheck Warnings: 2