Package: clusterExperiment Version: 2.27.0 Command: rm -rf clusterExperiment.buildbin-libdir && mkdir clusterExperiment.buildbin-libdir && /Users/biocbuild/BBS/utils/build-universal.sh clusterExperiment_2.27.0.tar.gz /Library/Frameworks/R.framework/Resources/bin/R clusterExperiment.buildbin-libdir StartedAt: 2025-02-06 00:24:05 -0500 (Thu, 06 Feb 2025) EndedAt: 2025-02-06 00:25:31 -0500 (Thu, 06 Feb 2025) EllapsedTime: 85.7 seconds RetCode: 0 Status: OK PackageFile: clusterExperiment_2.27.0.tgz PackageFileSize: 13.07 MiB