Package: clustSIGNAL Version: 1.3.0 Command: /home/biocbuild/bbs-3.23-bioc/R/bin/R CMD INSTALL clustSIGNAL StartedAt: 2025-11-24 15:56:16 -0500 (Mon, 24 Nov 2025) EndedAt: 2025-11-24 15:56:46 -0500 (Mon, 24 Nov 2025) EllapsedTime: 30.6 seconds RetCode: 0 Status: OK