Package: clustSIGNAL Version: 1.3.0 Command: /home/biocbuild/bbs-3.23-bioc/R/bin/R CMD build --keep-empty-dirs --no-resave-data clustSIGNAL StartedAt: 2025-11-24 16:52:41 -0500 (Mon, 24 Nov 2025) EndedAt: 2025-11-24 16:54:11 -0500 (Mon, 24 Nov 2025) EllapsedTime: 90.1 seconds RetCode: 0 Status: OK PackageFile: clustSIGNAL_1.3.0.tar.gz PackageFileSize: 4.517 MiB