Package: clustComp Version: 1.37.0 Command: /home/biocbuild/bbs-3.22-bioc/R/bin/R CMD build --keep-empty-dirs --no-resave-data --md5 clustComp StartedAt: 2025-07-23 16:55:06 -0400 (Wed, 23 Jul 2025) EndedAt: 2025-07-23 16:56:06 -0400 (Wed, 23 Jul 2025) EllapsedTime: 60.1 seconds RetCode: 0 Status: OK PackageFile: clustComp_1.37.0.tar.gz PackageFileSize: 932.2 KiB