Package: clustComp Version: 1.35.0 Command: rm -rf clustComp.buildbin-libdir && mkdir clustComp.buildbin-libdir && /Users/biocbuild/BBS/utils/build-universal.sh clustComp_1.35.0.tar.gz /Library/Frameworks/R.framework/Resources/bin/R clustComp.buildbin-libdir StartedAt: 2025-02-17 00:14:53 -0500 (Mon, 17 Feb 2025) EndedAt: 2025-02-17 00:15:00 -0500 (Mon, 17 Feb 2025) EllapsedTime: 7.0 seconds RetCode: 0 Status: OK PackageFile: clustComp_1.35.0.tgz PackageFileSize: 1014 KiB