Package: clustComp Version: 1.37.0 Maintainer: Aurora Torrente MaintainerEmail: aurora at ebi.ac.uk git_url: https://git.bioconductor.org/packages/clustComp git_branch: devel git_last_commit: a2c999f git_last_commit_date: 2025-04-15 10:58:22 -0400 (Tue, 15 Apr 2025)