Package: clst Version: 1.55.0 Command: chmod a+r clst -R && E:\biocbuild\bbs-3.21-bioc\R\bin\R.exe CMD build --keep-empty-dirs --no-resave-data clst StartedAt: 2025-01-10 17:51:54 -0500 (Fri, 10 Jan 2025) EndedAt: 2025-01-10 17:52:20 -0500 (Fri, 10 Jan 2025) EllapsedTime: 26.5 seconds RetCode: 0 Status: OK PackageFile: clst_1.55.0.tar.gz PackageFileSize: 929.8 KiB