Package: cliqueMS Version: 1.21.0 Command: /Library/Frameworks/R.framework/Resources/bin/R CMD check --install=check:cliqueMS.install-out.txt --library=/Library/Frameworks/R.framework/Resources/library --no-vignettes --timings cliqueMS_1.21.0.tar.gz StartedAt: 2025-02-14 19:27:08 -0500 (Fri, 14 Feb 2025) EndedAt: 2025-02-14 19:33:40 -0500 (Fri, 14 Feb 2025) EllapsedTime: 392.3 seconds RetCode: 0 Status: WARNINGS CheckDir: cliqueMS.Rcheck Warnings: 1