Package: cliqueMS Version: 1.21.0 Command: rm -rf cliqueMS.buildbin-libdir && mkdir cliqueMS.buildbin-libdir && /Users/biocbuild/BBS/utils/build-universal.sh cliqueMS_1.21.0.tar.gz /Library/Frameworks/R.framework/Resources/bin/R cliqueMS.buildbin-libdir StartedAt: 2025-02-16 22:07:56 -0500 (Sun, 16 Feb 2025) EndedAt: 2025-02-16 22:08:23 -0500 (Sun, 16 Feb 2025) EllapsedTime: 26.6 seconds RetCode: 0 Status: OK PackageFile: cliqueMS_1.21.0.tgz PackageFileSize: 1.03 MiB