Package: clipper Version: 1.49.0 Maintainer: Paolo Martini MaintainerEmail: paolo.cavei at gmail.com git_url: https://git.bioconductor.org/packages/clipper git_branch: devel git_last_commit: 9b655b0 git_last_commit_date: 2025-04-15 10:17:28 -0400 (Tue, 15 Apr 2025)