Package: cliProfiler Version: 1.15.0 Command: /home/biocbuild/R/R/bin/R CMD INSTALL cliProfiler StartedAt: 2025-10-13 21:06:21 -0000 (Mon, 13 Oct 2025) EndedAt: 2025-10-13 21:07:06 -0000 (Mon, 13 Oct 2025) EllapsedTime: 44.9 seconds RetCode: 0 Status: OK