Package: cliProfiler Version: 1.15.0 Command: /home/biocbuild/R/R/bin/R CMD build --keep-empty-dirs --no-resave-data cliProfiler StartedAt: 2025-10-13 23:13:19 -0000 (Mon, 13 Oct 2025) EndedAt: 2025-10-13 23:14:54 -0000 (Mon, 13 Oct 2025) EllapsedTime: 95.1 seconds RetCode: 1 Status: ERROR PackageFile: None PackageFileSize: NA