Package: clevRvis Version: 1.9.0 Command: chmod a+r clevRvis -R && F:\biocbuild\bbs-3.22-bioc\R\bin\R.exe CMD build --keep-empty-dirs --no-resave-data clevRvis StartedAt: 2025-08-14 19:09:35 -0400 (Thu, 14 Aug 2025) EndedAt: 2025-08-14 19:10:20 -0400 (Thu, 14 Aug 2025) EllapsedTime: 45.0 seconds RetCode: 0 Status: OK PackageFile: clevRvis_1.9.0.tar.gz PackageFileSize: 1.956 MiB