Package: cleaver Version: 1.45.0 Command: /home/biocbuild/R/R/bin/R CMD INSTALL cleaver StartedAt: 2025-01-29 19:37:57 -0000 (Wed, 29 Jan 2025) EndedAt: 2025-01-29 19:38:09 -0000 (Wed, 29 Jan 2025) EllapsedTime: 12.1 seconds RetCode: 0 Status: OK