Package: cleaver Version: 1.45.0 Command: /home/biocbuild/R/R/bin/R CMD check --install=check:cleaver.install-out.txt --library=/home/biocbuild/R/R/site-library --no-vignettes --timings cleaver_1.45.0.tar.gz StartedAt: 2025-01-28 09:12:09 -0000 (Tue, 28 Jan 2025) EndedAt: 2025-01-28 09:13:38 -0000 (Tue, 28 Jan 2025) EllapsedTime: 88.0 seconds RetCode: 0 Status: OK CheckDir: cleaver.Rcheck Warnings: 0