Package: cleaver Version: 1.45.0 Command: /home/biocbuild/R/R/bin/R CMD build --keep-empty-dirs --no-resave-data cleaver StartedAt: 2025-01-28 21:54:03 -0000 (Tue, 28 Jan 2025) EndedAt: 2025-01-28 21:54:29 -0000 (Tue, 28 Jan 2025) EllapsedTime: 26.0 seconds RetCode: 0 Status: OK PackageFile: cleaver_1.45.0.tar.gz PackageFileSize: 389.3 KiB