Package: cleaver Version: 1.47.0 Maintainer: Sebastian Gibb MaintainerEmail: mail at sebastiangibb.de git_url: https://git.bioconductor.org/packages/cleaver git_branch: devel git_last_commit: c2fe2f8 git_last_commit_date: 2025-04-15 10:24:35 -0400 (Tue, 15 Apr 2025)