Package: cleanUpdTSeq Version: 1.47.0 Command: /Library/Frameworks/R.framework/Resources/bin/R CMD check --install=check:cleanUpdTSeq.install-out.txt --library=/Library/Frameworks/R.framework/Resources/library --no-vignettes --timings cleanUpdTSeq_1.47.0.tar.gz StartedAt: 2025-05-15 19:40:33 -0400 (Thu, 15 May 2025) EndedAt: 2025-05-15 19:45:53 -0400 (Thu, 15 May 2025) EllapsedTime: 319.3 seconds RetCode: 0 Status: OK CheckDir: cleanUpdTSeq.Rcheck Warnings: 0