Package: cleanUpdTSeq Version: 1.47.0 Command: /Library/Frameworks/R.framework/Resources/bin/R CMD build --keep-empty-dirs --no-resave-data cleanUpdTSeq StartedAt: 2025-05-15 16:24:01 -0400 (Thu, 15 May 2025) EndedAt: 2025-05-15 16:25:38 -0400 (Thu, 15 May 2025) EllapsedTime: 96.9 seconds RetCode: 0 Status: OK PackageFile: cleanUpdTSeq_1.47.0.tar.gz PackageFileSize: 4.008 MiB