Package: cleanUpdTSeq Version: 1.47.0 Command: rm -rf cleanUpdTSeq.buildbin-libdir && mkdir cleanUpdTSeq.buildbin-libdir && /Users/biocbuild/BBS/utils/build-universal.sh cleanUpdTSeq_1.47.0.tar.gz /Library/Frameworks/R.framework/Resources/bin/R cleanUpdTSeq.buildbin-libdir StartedAt: 2025-05-16 00:24:11 -0400 (Fri, 16 May 2025) EndedAt: 2025-05-16 00:26:15 -0400 (Fri, 16 May 2025) EllapsedTime: 124.7 seconds RetCode: 0 Status: OK PackageFile: cleanUpdTSeq_1.47.0.tgz PackageFileSize: 5.869 MiB