Package: cleanUpdTSeq Version: 1.47.0 Command: /Library/Frameworks/R.framework/Resources/bin/R CMD INSTALL cleanUpdTSeq StartedAt: 2025-05-16 15:18:21 -0400 (Fri, 16 May 2025) EndedAt: 2025-05-16 15:18:45 -0400 (Fri, 16 May 2025) EllapsedTime: 24.8 seconds RetCode: 0 Status: OK