Package: cleanUpdTSeq Version: 1.47.0 Command: /Library/Frameworks/R.framework/Resources/bin/R CMD build --keep-empty-dirs --no-resave-data cleanUpdTSeq StartedAt: 2025-05-18 15:51:06 -0400 (Sun, 18 May 2025) EndedAt: 2025-05-18 15:51:40 -0400 (Sun, 18 May 2025) EllapsedTime: 33.3 seconds RetCode: 0 Status: OK PackageFile: cleanUpdTSeq_1.47.0.tar.gz PackageFileSize: 4.008 MiB