Package: cisPath Version: 1.47.0 Command: E:\biocbuild\bbs-3.21-bioc\R\bin\R.exe CMD check --no-multiarch --install=check:cisPath.install-out.txt --library=E:\biocbuild\bbs-3.21-bioc\R\library --no-vignettes --timings cisPath_1.47.0.tar.gz StartedAt: 2025-02-06 00:10:12 -0500 (Thu, 06 Feb 2025) EndedAt: 2025-02-06 00:11:28 -0500 (Thu, 06 Feb 2025) EllapsedTime: 76.7 seconds RetCode: 0 Status: OK CheckDir: cisPath.Rcheck Warnings: 0