Package: cisPath Version: 1.47.0 Command: rm -rf cisPath.buildbin-libdir && mkdir cisPath.buildbin-libdir && E:\biocbuild\bbs-3.21-bioc\R\bin\R.exe CMD INSTALL --build --library=cisPath.buildbin-libdir cisPath_1.47.0.tar.gz StartedAt: 2025-02-06 07:44:37 -0500 (Thu, 06 Feb 2025) EndedAt: 2025-02-06 07:44:59 -0500 (Thu, 06 Feb 2025) EllapsedTime: 22.3 seconds RetCode: 0 Status: OK PackageFile: cisPath_1.47.0.zip PackageFileSize: 1.249 MiB