Package: cisPath Version: 1.47.0 Command: /home/biocbuild/bbs-3.21-bioc/R/bin/R CMD INSTALL cisPath StartedAt: 2025-02-03 15:12:02 -0500 (Mon, 03 Feb 2025) EndedAt: 2025-02-03 15:12:13 -0500 (Mon, 03 Feb 2025) EllapsedTime: 11.7 seconds RetCode: 0 Status: OK