Package: cisPath Version: 1.47.0 Command: /home/biocbuild/bbs-3.21-bioc/R/bin/R CMD build --keep-empty-dirs --no-resave-data cisPath StartedAt: 2025-02-05 16:39:09 -0500 (Wed, 05 Feb 2025) EndedAt: 2025-02-05 16:39:26 -0500 (Wed, 05 Feb 2025) EllapsedTime: 17.0 seconds RetCode: 0 Status: OK PackageFile: cisPath_1.47.0.tar.gz PackageFileSize: 1.032 MiB