Package: cisPath Version: 1.47.0 Command: /home/biocbuild/R/R/bin/R CMD INSTALL cisPath StartedAt: 2025-01-29 19:29:43 -0000 (Wed, 29 Jan 2025) EndedAt: 2025-01-29 19:30:14 -0000 (Wed, 29 Jan 2025) EllapsedTime: 30.3 seconds RetCode: 1 Status: ERROR