Package: cisPath Version: 1.47.0 Command: /home/biocbuild/R/R/bin/R CMD build --keep-empty-dirs --no-resave-data cisPath StartedAt: 2025-01-28 21:52:21 -0000 (Tue, 28 Jan 2025) EndedAt: 2025-01-28 21:52:36 -0000 (Tue, 28 Jan 2025) EllapsedTime: 15.0 seconds RetCode: 1 Status: ERROR PackageFile: None PackageFileSize: NA