Package: cisPath Version: 1.47.0 Command: /Library/Frameworks/R.framework/Resources/bin/R CMD check --install=check:cisPath.install-out.txt --library=/Library/Frameworks/R.framework/Resources/library --no-vignettes --timings cisPath_1.47.0.tar.gz StartedAt: 2025-02-05 18:36:03 -0500 (Wed, 05 Feb 2025) EndedAt: 2025-02-05 18:36:15 -0500 (Wed, 05 Feb 2025) EllapsedTime: 12.1 seconds RetCode: 0 Status: WARNINGS CheckDir: cisPath.Rcheck Warnings: 2