Package: cisPath Version: 1.47.0 Command: /Library/Frameworks/R.framework/Resources/bin/R CMD build --keep-empty-dirs --no-resave-data cisPath StartedAt: 2025-02-05 15:55:07 -0500 (Wed, 05 Feb 2025) EndedAt: 2025-02-05 15:55:16 -0500 (Wed, 05 Feb 2025) EllapsedTime: 9.1 seconds RetCode: 0 Status: OK PackageFile: cisPath_1.47.0.tar.gz PackageFileSize: 1.033 MiB