Package: circRNAprofiler Version: 1.23.1 Command: chmod a+r circRNAprofiler -R && F:\biocbuild\bbs-3.22-bioc\R\bin\R.exe CMD build --keep-empty-dirs --no-resave-data circRNAprofiler StartedAt: 2025-08-14 19:08:19 -0400 (Thu, 14 Aug 2025) EndedAt: 2025-08-14 19:10:19 -0400 (Thu, 14 Aug 2025) EllapsedTime: 120.5 seconds RetCode: 0 Status: OK PackageFile: circRNAprofiler_1.23.1.tar.gz PackageFileSize: 3.491 MiB