Package: cicero Version: 1.27.0 Command: /home/biocbuild/R/R/bin/R CMD build --keep-empty-dirs --no-resave-data cicero StartedAt: 2025-09-29 22:54:11 -0000 (Mon, 29 Sep 2025) EndedAt: 2025-09-29 22:56:50 -0000 (Mon, 29 Sep 2025) EllapsedTime: 159.1 seconds RetCode: 0 Status: OK PackageFile: cicero_1.27.0.tar.gz PackageFileSize: 1.175 MiB