Package: cicero Version: 1.27.0 Command: chmod a+r cicero -R && F:\biocbuild\bbs-3.22-bioc\R\bin\R.exe CMD build --keep-empty-dirs --no-resave-data cicero StartedAt: 2025-08-14 19:08:01 -0400 (Thu, 14 Aug 2025) EndedAt: 2025-08-14 19:10:34 -0400 (Thu, 14 Aug 2025) EllapsedTime: 153.5 seconds RetCode: 0 Status: OK PackageFile: cicero_1.27.0.tar.gz PackageFileSize: 1.141 MiB