Package: cicero Version: 1.25.0 Command: E:\biocbuild\bbs-3.21-bioc\R\bin\R.exe CMD INSTALL cicero StartedAt: 2025-02-03 16:55:54 -0500 (Mon, 03 Feb 2025) EndedAt: 2025-02-03 16:57:13 -0500 (Mon, 03 Feb 2025) EllapsedTime: 79.1 seconds RetCode: 0 Status: OK