Package: cicero Version: 1.25.0 Command: E:\biocbuild\bbs-3.21-bioc\R\bin\R.exe CMD check --no-multiarch --install=check:cicero.install-out.txt --library=E:\biocbuild\bbs-3.21-bioc\R\library --no-vignettes --timings cicero_1.25.0.tar.gz StartedAt: 2025-02-04 00:06:35 -0500 (Tue, 04 Feb 2025) EndedAt: 2025-02-04 00:15:46 -0500 (Tue, 04 Feb 2025) EllapsedTime: 551.2 seconds RetCode: 0 Status: OK CheckDir: cicero.Rcheck Warnings: 0