Package: cicero Version: 1.25.0 Command: chmod a+r cicero -R && E:\biocbuild\bbs-3.21-bioc\R\bin\R.exe CMD build --keep-empty-dirs --no-resave-data cicero StartedAt: 2025-02-03 18:04:18 -0500 (Mon, 03 Feb 2025) EndedAt: 2025-02-03 18:06:45 -0500 (Mon, 03 Feb 2025) EllapsedTime: 146.8 seconds RetCode: 0 Status: OK PackageFile: cicero_1.25.0.tar.gz PackageFileSize: 1.141 MiB