Package: cicero Version: 1.25.0 Command: rm -rf cicero.buildbin-libdir && mkdir cicero.buildbin-libdir && E:\biocbuild\bbs-3.21-bioc\R\bin\R.exe CMD INSTALL --build --library=cicero.buildbin-libdir cicero_1.25.0.tar.gz StartedAt: 2025-02-06 07:44:23 -0500 (Thu, 06 Feb 2025) EndedAt: 2025-02-06 07:45:31 -0500 (Thu, 06 Feb 2025) EllapsedTime: 67.4 seconds RetCode: 0 Status: OK PackageFile: cicero_1.25.0.zip PackageFileSize: 1.172 MiB