Package: cicero Version: 1.25.0 Command: /home/biocbuild/bbs-3.21-bioc/R/bin/R CMD INSTALL cicero StartedAt: 2025-02-03 15:55:02 -0500 (Mon, 03 Feb 2025) EndedAt: 2025-02-03 15:56:00 -0500 (Mon, 03 Feb 2025) EllapsedTime: 58.3 seconds RetCode: 0 Status: OK