Package: cicero Version: 1.25.0 Command: /home/biocbuild/bbs-3.21-bioc/R/bin/R CMD build --keep-empty-dirs --no-resave-data cicero StartedAt: 2025-02-03 16:47:58 -0500 (Mon, 03 Feb 2025) EndedAt: 2025-02-03 16:49:53 -0500 (Mon, 03 Feb 2025) EllapsedTime: 115.1 seconds RetCode: 0 Status: OK PackageFile: cicero_1.25.0.tar.gz PackageFileSize: 1.182 MiB