Package: cicero Version: 1.25.0 Command: /Library/Frameworks/R.framework/Resources/bin/R CMD INSTALL cicero StartedAt: 2025-02-05 15:27:32 -0500 (Wed, 05 Feb 2025) EndedAt: 2025-02-05 15:28:50 -0500 (Wed, 05 Feb 2025) EllapsedTime: 77.5 seconds RetCode: 0 Status: OK