Package: cicero Version: 1.25.0 Command: /Library/Frameworks/R.framework/Resources/bin/R CMD check --install=check:cicero.install-out.txt --library=/Library/Frameworks/R.framework/Resources/library --no-vignettes --timings cicero_1.25.0.tar.gz StartedAt: 2025-02-05 19:33:14 -0500 (Wed, 05 Feb 2025) EndedAt: 2025-02-05 19:42:01 -0500 (Wed, 05 Feb 2025) EllapsedTime: 526.7 seconds RetCode: 0 Status: OK CheckDir: cicero.Rcheck Warnings: 0