Package: cicero Version: 1.27.0 Command: /Library/Frameworks/R.framework/Resources/bin/R CMD build --keep-empty-dirs --no-resave-data cicero StartedAt: 2025-09-30 16:24:25 -0400 (Tue, 30 Sep 2025) EndedAt: 2025-09-30 16:26:39 -0400 (Tue, 30 Sep 2025) EllapsedTime: 134.8 seconds RetCode: 0 Status: OK PackageFile: cicero_1.27.0.tar.gz PackageFileSize: 1.193 MiB